BEGIN:VCALENDAR
VERSION:2.0
PRODID:-//https://calenda-formation.labocleo.org
X-WR-CALNAME:Calenda
X-WR-TIMEZONE:Europe/Paris
CALSCALE:GREGORIAN
X-WR-CALDESC:The calendar for arts, humanities and social sciences
METHOD:PUBLISH
BEGIN:VEVENT
DTSTART;VALUE=DATE:20121108
DTEND;VALUE=DATE:20121109
UID:221219-20121108@calenda.revues.org
SUMMARY:Social\, local\, or complementary currencies in the Rhône-Alpes region
URL:https://calenda-formation.labocleo.org/221219
DESCRIPTION:Cette journée vise à réunir acteurs (personnes impliquées dans le fonctionnement d’une monnaie sociale\, locale ou complémentaire ; porteurs de projets ; élus locaux aux niveaux des communes\, communautés de communes ou région…) et chercheurs\, autour d… @plus_info https://calenda-formation.labocleo.org/221219
LOCATION:Lyon
END:VEVENT
END:VCALENDAR
