BEGIN:VCALENDAR
VERSION:2.0
PRODID:-//https://calenda-formation.labocleo.org
X-WR-CALNAME:Calenda
X-WR-TIMEZONE:Europe/Paris
CALSCALE:GREGORIAN
X-WR-CALDESC:O calendário de letras e de ciências sociais e humanas
METHOD:PUBLISH
BEGIN:VEVENT
DTSTART;VALUE=DATE:20121116
DTEND;VALUE=DATE:20121117
UID:221511-20121116@calenda.revues.org
SUMMARY:Connivences
URL:https://calenda-formation.labocleo.org/221511
DESCRIPTION:Toute discipline\, littéraire comme relevant des sciences humaines et sociales\, a tendance à se concentrer sur la spécificité de son champ d’action. Chacune a\, en effet\, parmi ses objectifs\, l’ambition de construire son identité par la délimitation de… @plus_info https://calenda-formation.labocleo.org/221511
LOCATION:Chambéry
END:VEVENT
END:VCALENDAR
