BEGIN:VCALENDAR
VERSION:2.0
PRODID:-//https://calenda-formation.labocleo.org
X-WR-CALNAME:Calenda
X-WR-TIMEZONE:Europe/Paris
CALSCALE:GREGORIAN
X-WR-CALDESC:The calendar for arts, humanities and social sciences
METHOD:PUBLISH
BEGIN:VEVENT
DTSTART;VALUE=DATE:20121031
DTEND;VALUE=DATE:20121101
UID:222416-20121031@calenda.revues.org
SUMMARY:The ruin
URL:https://calenda-formation.labocleo.org/222416
DESCRIPTION:Sociétés journal devotes its next issue to the subject of “the ruin”. This issue aims to revisit and extend the notion of ruin considering its spatial\, social\, architectural\, and urban imaginary. A Ruin is a representation and a pictorial resource of… @plus_info https://calenda-formation.labocleo.org/222416
LOCATION:Paris
END:VEVENT
END:VCALENDAR
