BEGIN:VCALENDAR
VERSION:2.0
PRODID:-//https://calenda-formation.labocleo.org
X-WR-CALNAME:Calenda
X-WR-TIMEZONE:Europe/Paris
CALSCALE:GREGORIAN
X-WR-CALDESC:The calendar for arts, humanities and social sciences
METHOD:PUBLISH
BEGIN:VEVENT
DTSTART;VALUE=DATE:20121018
DTEND;VALUE=DATE:20121019
UID:222590-20121018@calenda.revues.org
SUMMARY:Women\, gender and collective mobilisation in Africa\, seminar 2012-2013
URL:https://calenda-formation.labocleo.org/222590
DESCRIPTION:Depuis les années 1970\, les recherches portant sur la place des femmes dans les mouvements sociaux puis sur les mouvements sociaux sexués se sont multipliées. S’agissant de l’Afrique\, ces problématiques restent encore trop peu étudiées et les travaux… @plus_info https://calenda-formation.labocleo.org/222590
LOCATION:Paris
END:VEVENT
BEGIN:VEVENT
DTSTART;VALUE=DATE:20121108
DTEND;VALUE=DATE:20121109
UID:222590-20121108@calenda.revues.org
SUMMARY:Women\, gender and collective mobilisation in Africa\, seminar 2012-2013
URL:https://calenda-formation.labocleo.org/222590
DESCRIPTION:Depuis les années 1970\, les recherches portant sur la place des femmes dans les mouvements sociaux puis sur les mouvements sociaux sexués se sont multipliées. S’agissant de l’Afrique\, ces problématiques restent encore trop peu étudiées et les travaux… @plus_info https://calenda-formation.labocleo.org/222590
LOCATION:Paris
END:VEVENT
BEGIN:VEVENT
DTSTART;VALUE=DATE:20121220
DTEND;VALUE=DATE:20121221
UID:222590-20121220@calenda.revues.org
SUMMARY:Women\, gender and collective mobilisation in Africa\, seminar 2012-2013
URL:https://calenda-formation.labocleo.org/222590
DESCRIPTION:Depuis les années 1970\, les recherches portant sur la place des femmes dans les mouvements sociaux puis sur les mouvements sociaux sexués se sont multipliées. S’agissant de l’Afrique\, ces problématiques restent encore trop peu étudiées et les travaux… @plus_info https://calenda-formation.labocleo.org/222590
LOCATION:Paris
END:VEVENT
BEGIN:VEVENT
DTSTART;VALUE=DATE:20130110
DTEND;VALUE=DATE:20130111
UID:222590-20130110@calenda.revues.org
SUMMARY:Women\, gender and collective mobilisation in Africa\, seminar 2012-2013
URL:https://calenda-formation.labocleo.org/222590
DESCRIPTION:Depuis les années 1970\, les recherches portant sur la place des femmes dans les mouvements sociaux puis sur les mouvements sociaux sexués se sont multipliées. S’agissant de l’Afrique\, ces problématiques restent encore trop peu étudiées et les travaux… @plus_info https://calenda-formation.labocleo.org/222590
LOCATION:Paris
END:VEVENT
BEGIN:VEVENT
DTSTART;VALUE=DATE:20130207
DTEND;VALUE=DATE:20130208
UID:222590-20130207@calenda.revues.org
SUMMARY:Women\, gender and collective mobilisation in Africa\, seminar 2012-2013
URL:https://calenda-formation.labocleo.org/222590
DESCRIPTION:Depuis les années 1970\, les recherches portant sur la place des femmes dans les mouvements sociaux puis sur les mouvements sociaux sexués se sont multipliées. S’agissant de l’Afrique\, ces problématiques restent encore trop peu étudiées et les travaux… @plus_info https://calenda-formation.labocleo.org/222590
LOCATION:Paris
END:VEVENT
BEGIN:VEVENT
DTSTART;VALUE=DATE:20130307
DTEND;VALUE=DATE:20130308
UID:222590-20130307@calenda.revues.org
SUMMARY:Women\, gender and collective mobilisation in Africa\, seminar 2012-2013
URL:https://calenda-formation.labocleo.org/222590
DESCRIPTION:Depuis les années 1970\, les recherches portant sur la place des femmes dans les mouvements sociaux puis sur les mouvements sociaux sexués se sont multipliées. S’agissant de l’Afrique\, ces problématiques restent encore trop peu étudiées et les travaux… @plus_info https://calenda-formation.labocleo.org/222590
LOCATION:Paris
END:VEVENT
BEGIN:VEVENT
DTSTART;VALUE=DATE:20130404
DTEND;VALUE=DATE:20130405
UID:222590-20130404@calenda.revues.org
SUMMARY:Women\, gender and collective mobilisation in Africa\, seminar 2012-2013
URL:https://calenda-formation.labocleo.org/222590
DESCRIPTION:Depuis les années 1970\, les recherches portant sur la place des femmes dans les mouvements sociaux puis sur les mouvements sociaux sexués se sont multipliées. S’agissant de l’Afrique\, ces problématiques restent encore trop peu étudiées et les travaux… @plus_info https://calenda-formation.labocleo.org/222590
LOCATION:Paris
END:VEVENT
BEGIN:VEVENT
DTSTART;VALUE=DATE:20130530
DTEND;VALUE=DATE:20130531
UID:222590-20130530@calenda.revues.org
SUMMARY:Women\, gender and collective mobilisation in Africa\, seminar 2012-2013
URL:https://calenda-formation.labocleo.org/222590
DESCRIPTION:Depuis les années 1970\, les recherches portant sur la place des femmes dans les mouvements sociaux puis sur les mouvements sociaux sexués se sont multipliées. S’agissant de l’Afrique\, ces problématiques restent encore trop peu étudiées et les travaux… @plus_info https://calenda-formation.labocleo.org/222590
LOCATION:Paris
END:VEVENT
END:VCALENDAR
