BEGIN:VCALENDAR
VERSION:2.0
PRODID:-//https://calenda-formation.labocleo.org
X-WR-CALNAME:Calenda
X-WR-TIMEZONE:Europe/Paris
CALSCALE:GREGORIAN
X-WR-CALDESC:O calendário de letras e de ciências sociais e humanas
METHOD:PUBLISH
BEGIN:VEVENT
DTSTART;VALUE=DATE:20121018
DTEND;VALUE=DATE:20121019
UID:222795-20121018@calenda.revues.org
SUMMARY:Amitiés. Le cas des mondes américains
URL:https://calenda-formation.labocleo.org/222795
DESCRIPTION:Ce colloque interdisciplinaire vise à interroger le lien d’amitié tel qu’il s’élabore entre les individus\, les communautés\, les nations\, les zones linguistiques et politiques dans les aires géographiques et culturelles des Amériques jusque dans leurs… @plus_info https://calenda-formation.labocleo.org/222795
LOCATION:La Rochelle
END:VEVENT
BEGIN:VEVENT
DTSTART;VALUE=DATE:20121019
DTEND;VALUE=DATE:20121020
UID:222795-20121019@calenda.revues.org
SUMMARY:Amitiés. Le cas des mondes américains
URL:https://calenda-formation.labocleo.org/222795
DESCRIPTION:Ce colloque interdisciplinaire vise à interroger le lien d’amitié tel qu’il s’élabore entre les individus\, les communautés\, les nations\, les zones linguistiques et politiques dans les aires géographiques et culturelles des Amériques jusque dans leurs… @plus_info https://calenda-formation.labocleo.org/222795
LOCATION:La Rochelle
END:VEVENT
BEGIN:VEVENT
DTSTART;VALUE=DATE:20121020
DTEND;VALUE=DATE:20121021
UID:222795-20121020@calenda.revues.org
SUMMARY:Amitiés. Le cas des mondes américains
URL:https://calenda-formation.labocleo.org/222795
DESCRIPTION:Ce colloque interdisciplinaire vise à interroger le lien d’amitié tel qu’il s’élabore entre les individus\, les communautés\, les nations\, les zones linguistiques et politiques dans les aires géographiques et culturelles des Amériques jusque dans leurs… @plus_info https://calenda-formation.labocleo.org/222795
LOCATION:La Rochelle
END:VEVENT
END:VCALENDAR
