BEGIN:VCALENDAR
VERSION:2.0
PRODID:-//https://calenda-formation.labocleo.org
X-WR-CALNAME:Calenda
X-WR-TIMEZONE:Europe/Paris
CALSCALE:GREGORIAN
X-WR-CALDESC:O calendário de letras e de ciências sociais e humanas
METHOD:PUBLISH
BEGIN:VEVENT
DTSTART;VALUE=DATE:20121116
DTEND;VALUE=DATE:20121117
UID:223031-20121116@calenda.revues.org
SUMMARY:Narrer les identités au sein des sociétés du XXIe siècle
URL:https://calenda-formation.labocleo.org/223031
DESCRIPTION:Nous voulons explorer l’interface plurilinguisme – identité(s) culturelle(s)\, collective et individuelle(s)\, au sein de la société catalane au tournant du XXIème siècle. Cette étude sera proposée à partir de  la production écrite\, en catalan et/ou en… @plus_info https://calenda-formation.labocleo.org/223031
LOCATION:Rennes
END:VEVENT
BEGIN:VEVENT
DTSTART;VALUE=DATE:20121028
DTEND;VALUE=DATE:20121028
UID:223031-20121028@calenda.revues.org
SUMMARY:Narrer les identités au sein des sociétés du XXIe siècle
URL:https://calenda-formation.labocleo.org/223031
DESCRIPTION:Nous voulons explorer l’interface plurilinguisme – identité(s) culturelle(s)\, collective et individuelle(s)\, au sein de la société catalane au tournant du XXIème siècle. Cette étude sera proposée à partir de  la production écrite\, en catalan et/ou en… @plus_info https://calenda-formation.labocleo.org/223031
LOCATION:Rennes
END:VEVENT
END:VCALENDAR
