BEGIN:VCALENDAR
VERSION:2.0
PRODID:-//https://calenda-formation.labocleo.org
X-WR-CALNAME:Calenda
X-WR-TIMEZONE:Europe/Paris
CALSCALE:GREGORIAN
X-WR-CALDESC:The calendar for arts, humanities and social sciences
METHOD:PUBLISH
BEGIN:VEVENT
DTSTART;VALUE=DATE:20121016
DTEND;VALUE=DATE:20121017
UID:223047-20121016@calenda.revues.org
SUMMARY:Relações laborais em Portugal e no mundo lusófono 1800-2000 
URL:https://calenda-formation.labocleo.org/223047
DESCRIPTION:Relações Laborais em Portugal e no Mundo Lusófono 1800-2000: continuidades e rupturas é um projecto que visa quantificar\, analisar e compreender as relações laborais em Portugal e no mundo lusófono no período contemporâneo\, assinalando as formas pela… @plus_info https://calenda-formation.labocleo.org/223047
LOCATION:Lisbon
END:VEVENT
END:VCALENDAR
