BEGIN:VCALENDAR
VERSION:2.0
PRODID:-//https://calenda-formation.labocleo.org
X-WR-CALNAME:Calenda
X-WR-TIMEZONE:Europe/Paris
CALSCALE:GREGORIAN
X-WR-CALDESC:The calendar for arts, humanities and social sciences
METHOD:PUBLISH
BEGIN:VEVENT
DTSTART;VALUE=DATE:20121130
DTEND;VALUE=DATE:20121201
UID:223465-20121130@calenda.revues.org
SUMMARY:Sustainable development in French Guyana: from the transposition of a model to strategies of adaptation
URL:https://calenda-formation.labocleo.org/223465
DESCRIPTION:La Guyane connaît aujourd’hui une crise de développement qui repose\, entre autres facteurs\, sur le déséquilibre entre une croissance démographique sans précédent et la disponibilité des ressources\, essentiellement les transferts métropolitains et eur… @plus_info https://calenda-formation.labocleo.org/223465
LOCATION:
END:VEVENT
END:VCALENDAR
