BEGIN:VCALENDAR
VERSION:2.0
PRODID:-//https://calenda-formation.labocleo.org
X-WR-CALNAME:Calenda
X-WR-TIMEZONE:Europe/Paris
CALSCALE:GREGORIAN
X-WR-CALDESC:Le calendrier des lettres et sciences humaines et sociales
METHOD:PUBLISH
BEGIN:VEVENT
DTSTART;VALUE=DATE:20121002
DTEND;VALUE=DATE:20121003
UID:223510-20121002@calenda.revues.org
SUMMARY:Gendarmeries\, polices et société (XIXe-XXIe siècle)
URL:https://calenda-formation.labocleo.org/223510
DESCRIPTION:La multiplicité des forces de police invite l'historien à étendre ses recherches dans deux directions. L'étude des forces militaires chargées de missions policières évite la confusion\, introduite par la langue française\, entre la fonction de police e… @plus_info https://calenda-formation.labocleo.org/223510
LOCATION:Paris
END:VEVENT
BEGIN:VEVENT
DTSTART;VALUE=DATE:20121009
DTEND;VALUE=DATE:20121010
UID:223510-20121009@calenda.revues.org
SUMMARY:Gendarmeries\, polices et société (XIXe-XXIe siècle)
URL:https://calenda-formation.labocleo.org/223510
DESCRIPTION:La multiplicité des forces de police invite l'historien à étendre ses recherches dans deux directions. L'étude des forces militaires chargées de missions policières évite la confusion\, introduite par la langue française\, entre la fonction de police e… @plus_info https://calenda-formation.labocleo.org/223510
LOCATION:Paris
END:VEVENT
BEGIN:VEVENT
DTSTART;VALUE=DATE:20121016
DTEND;VALUE=DATE:20121017
UID:223510-20121016@calenda.revues.org
SUMMARY:Gendarmeries\, polices et société (XIXe-XXIe siècle)
URL:https://calenda-formation.labocleo.org/223510
DESCRIPTION:La multiplicité des forces de police invite l'historien à étendre ses recherches dans deux directions. L'étude des forces militaires chargées de missions policières évite la confusion\, introduite par la langue française\, entre la fonction de police e… @plus_info https://calenda-formation.labocleo.org/223510
LOCATION:Paris
END:VEVENT
BEGIN:VEVENT
DTSTART;VALUE=DATE:20121023
DTEND;VALUE=DATE:20121024
UID:223510-20121023@calenda.revues.org
SUMMARY:Gendarmeries\, polices et société (XIXe-XXIe siècle)
URL:https://calenda-formation.labocleo.org/223510
DESCRIPTION:La multiplicité des forces de police invite l'historien à étendre ses recherches dans deux directions. L'étude des forces militaires chargées de missions policières évite la confusion\, introduite par la langue française\, entre la fonction de police e… @plus_info https://calenda-formation.labocleo.org/223510
LOCATION:Paris
END:VEVENT
BEGIN:VEVENT
DTSTART;VALUE=DATE:20121106
DTEND;VALUE=DATE:20121107
UID:223510-20121106@calenda.revues.org
SUMMARY:Gendarmeries\, polices et société (XIXe-XXIe siècle)
URL:https://calenda-formation.labocleo.org/223510
DESCRIPTION:La multiplicité des forces de police invite l'historien à étendre ses recherches dans deux directions. L'étude des forces militaires chargées de missions policières évite la confusion\, introduite par la langue française\, entre la fonction de police e… @plus_info https://calenda-formation.labocleo.org/223510
LOCATION:Paris
END:VEVENT
BEGIN:VEVENT
DTSTART;VALUE=DATE:20121120
DTEND;VALUE=DATE:20121121
UID:223510-20121120@calenda.revues.org
SUMMARY:Gendarmeries\, polices et société (XIXe-XXIe siècle)
URL:https://calenda-formation.labocleo.org/223510
DESCRIPTION:La multiplicité des forces de police invite l'historien à étendre ses recherches dans deux directions. L'étude des forces militaires chargées de missions policières évite la confusion\, introduite par la langue française\, entre la fonction de police e… @plus_info https://calenda-formation.labocleo.org/223510
LOCATION:Paris
END:VEVENT
BEGIN:VEVENT
DTSTART;VALUE=DATE:20121127
DTEND;VALUE=DATE:20121128
UID:223510-20121127@calenda.revues.org
SUMMARY:Gendarmeries\, polices et société (XIXe-XXIe siècle)
URL:https://calenda-formation.labocleo.org/223510
DESCRIPTION:La multiplicité des forces de police invite l'historien à étendre ses recherches dans deux directions. L'étude des forces militaires chargées de missions policières évite la confusion\, introduite par la langue française\, entre la fonction de police e… @plus_info https://calenda-formation.labocleo.org/223510
LOCATION:Paris
END:VEVENT
BEGIN:VEVENT
DTSTART;VALUE=DATE:20121204
DTEND;VALUE=DATE:20121205
UID:223510-20121204@calenda.revues.org
SUMMARY:Gendarmeries\, polices et société (XIXe-XXIe siècle)
URL:https://calenda-formation.labocleo.org/223510
DESCRIPTION:La multiplicité des forces de police invite l'historien à étendre ses recherches dans deux directions. L'étude des forces militaires chargées de missions policières évite la confusion\, introduite par la langue française\, entre la fonction de police e… @plus_info https://calenda-formation.labocleo.org/223510
LOCATION:Paris
END:VEVENT
BEGIN:VEVENT
DTSTART;VALUE=DATE:20121211
DTEND;VALUE=DATE:20121212
UID:223510-20121211@calenda.revues.org
SUMMARY:Gendarmeries\, polices et société (XIXe-XXIe siècle)
URL:https://calenda-formation.labocleo.org/223510
DESCRIPTION:La multiplicité des forces de police invite l'historien à étendre ses recherches dans deux directions. L'étude des forces militaires chargées de missions policières évite la confusion\, introduite par la langue française\, entre la fonction de police e… @plus_info https://calenda-formation.labocleo.org/223510
LOCATION:Paris
END:VEVENT
BEGIN:VEVENT
DTSTART;VALUE=DATE:20121218
DTEND;VALUE=DATE:20121219
UID:223510-20121218@calenda.revues.org
SUMMARY:Gendarmeries\, polices et société (XIXe-XXIe siècle)
URL:https://calenda-formation.labocleo.org/223510
DESCRIPTION:La multiplicité des forces de police invite l'historien à étendre ses recherches dans deux directions. L'étude des forces militaires chargées de missions policières évite la confusion\, introduite par la langue française\, entre la fonction de police e… @plus_info https://calenda-formation.labocleo.org/223510
LOCATION:Paris
END:VEVENT
END:VCALENDAR
