BEGIN:VCALENDAR
VERSION:2.0
PRODID:-//https://calenda-formation.labocleo.org
X-WR-CALNAME:Calenda
X-WR-TIMEZONE:Europe/Paris
CALSCALE:GREGORIAN
X-WR-CALDESC:Le calendrier des lettres et sciences humaines et sociales
METHOD:PUBLISH
BEGIN:VEVENT
DTSTART;VALUE=DATE:20121010
DTEND;VALUE=DATE:20121011
UID:223682-20121010@calenda.revues.org
SUMMARY:Lectures croisées : histoire et sciences sociales
URL:https://calenda-formation.labocleo.org/223682
DESCRIPTION:Pour la seconde année\, les séances de ce séminaire réunissent un historien et un représentant des autres sciences sociales (sociologie\, anthropologie\, ethnologie)\, ou de la philosophie\, autour de discussions avant tout méthodologiques. Le principe es… Más informaciones https://calenda-formation.labocleo.org/223682
LOCATION:Aix-en-Provence
END:VEVENT
BEGIN:VEVENT
DTSTART;VALUE=DATE:20121212
DTEND;VALUE=DATE:20121213
UID:223682-20121212@calenda.revues.org
SUMMARY:Lectures croisées : histoire et sciences sociales
URL:https://calenda-formation.labocleo.org/223682
DESCRIPTION:Pour la seconde année\, les séances de ce séminaire réunissent un historien et un représentant des autres sciences sociales (sociologie\, anthropologie\, ethnologie)\, ou de la philosophie\, autour de discussions avant tout méthodologiques. Le principe es… Más informaciones https://calenda-formation.labocleo.org/223682
LOCATION:Aix-en-Provence
END:VEVENT
BEGIN:VEVENT
DTSTART;VALUE=DATE:20130403
DTEND;VALUE=DATE:20130404
UID:223682-20130403@calenda.revues.org
SUMMARY:Lectures croisées : histoire et sciences sociales
URL:https://calenda-formation.labocleo.org/223682
DESCRIPTION:Pour la seconde année\, les séances de ce séminaire réunissent un historien et un représentant des autres sciences sociales (sociologie\, anthropologie\, ethnologie)\, ou de la philosophie\, autour de discussions avant tout méthodologiques. Le principe es… Más informaciones https://calenda-formation.labocleo.org/223682
LOCATION:Aix-en-Provence
END:VEVENT
BEGIN:VEVENT
DTSTART;VALUE=DATE:20130523
DTEND;VALUE=DATE:20130524
UID:223682-20130523@calenda.revues.org
SUMMARY:Lectures croisées : histoire et sciences sociales
URL:https://calenda-formation.labocleo.org/223682
DESCRIPTION:Pour la seconde année\, les séances de ce séminaire réunissent un historien et un représentant des autres sciences sociales (sociologie\, anthropologie\, ethnologie)\, ou de la philosophie\, autour de discussions avant tout méthodologiques. Le principe es… Más informaciones https://calenda-formation.labocleo.org/223682
LOCATION:Aix-en-Provence
END:VEVENT
END:VCALENDAR
