BEGIN:VCALENDAR
VERSION:2.0
PRODID:-//https://calenda-formation.labocleo.org
X-WR-CALNAME:Calenda
X-WR-TIMEZONE:Europe/Paris
CALSCALE:GREGORIAN
X-WR-CALDESC:The calendar for arts, humanities and social sciences
METHOD:PUBLISH
BEGIN:VEVENT
DTSTART;VALUE=DATE:20121031
DTEND;VALUE=DATE:20121101
UID:223794-20121031@calenda.revues.org
SUMMARY:Public-private sharing: geneology and recompositions
URL:https://calenda-formation.labocleo.org/223794
DESCRIPTION:Dans le cadre du douzième Congrès de l'AFSP (Paris\, juillet 2013)\, notre section thématique vise à réinterroger la distinction public / privé en tant qu'élément structurant de la politique contemporaine. Si le principe d'une séparation nette entre ci… @plus_info https://calenda-formation.labocleo.org/223794
LOCATION:Paris
END:VEVENT
END:VCALENDAR
