BEGIN:VCALENDAR
VERSION:2.0
PRODID:-//https://calenda-formation.labocleo.org
X-WR-CALNAME:Calenda
X-WR-TIMEZONE:Europe/Paris
CALSCALE:GREGORIAN
X-WR-CALDESC:Le calendrier des lettres et sciences humaines et sociales
METHOD:PUBLISH
BEGIN:VEVENT
DTSTART;VALUE=DATE:20121024
DTEND;VALUE=DATE:20121025
UID:224229-20121024@calenda.revues.org
SUMMARY:Arabic tables in Sanskrit\, Chinese and Latin a first internationalization of sciences ?
URL:https://calenda-formation.labocleo.org/224229
DESCRIPTION:L’analyse de la transmission des tables astronomiques arabes en chinois\, sanskrit ou latin est l’un des thèmes majeurs de la recherche en histoire de l’astronomie. Cependant\, les chercheurs étudiants ces sujets ont peu d’opportunités de confronter le… Weitere Informationen https://calenda-formation.labocleo.org/224229
LOCATION:Paris
END:VEVENT
BEGIN:VEVENT
DTSTART;VALUE=DATE:20121025
DTEND;VALUE=DATE:20121026
UID:224229-20121025@calenda.revues.org
SUMMARY:Arabic tables in Sanskrit\, Chinese and Latin a first internationalization of sciences ?
URL:https://calenda-formation.labocleo.org/224229
DESCRIPTION:L’analyse de la transmission des tables astronomiques arabes en chinois\, sanskrit ou latin est l’un des thèmes majeurs de la recherche en histoire de l’astronomie. Cependant\, les chercheurs étudiants ces sujets ont peu d’opportunités de confronter le… Weitere Informationen https://calenda-formation.labocleo.org/224229
LOCATION:Paris
END:VEVENT
END:VCALENDAR
