BEGIN:VCALENDAR
VERSION:2.0
PRODID:-//https://calenda-formation.labocleo.org
X-WR-CALNAME:Calenda
X-WR-TIMEZONE:Europe/Paris
CALSCALE:GREGORIAN
X-WR-CALDESC:Le calendrier des lettres et sciences humaines et sociales
METHOD:PUBLISH
BEGIN:VEVENT
DTSTART;VALUE=DATE:20121031
DTEND;VALUE=DATE:20121101
UID:224260-20121031@calenda.revues.org
SUMMARY:Enquêter en contexte de développement ou d’urgence
URL:https://calenda-formation.labocleo.org/224260
DESCRIPTION:La négociation de l’accès au terrain sur la longue durée\, la légitimité du savoir anthropologique\, la réflexivité des acteurs locaux sur leur propre situation\, les attentes qu’ils placent dans le chercheur\, les rapports aux institutions dominantes\, s… Weitere Informationen https://calenda-formation.labocleo.org/224260
LOCATION:Montpellier
END:VEVENT
END:VCALENDAR
