BEGIN:VCALENDAR
VERSION:2.0
PRODID:-//https://calenda-formation.labocleo.org
X-WR-CALNAME:Calenda
X-WR-TIMEZONE:Europe/Paris
CALSCALE:GREGORIAN
X-WR-CALDESC:Le calendrier des lettres et sciences humaines et sociales
METHOD:PUBLISH
BEGIN:VEVENT
DTSTART;VALUE=DATE:20130116
DTEND;VALUE=DATE:20130117
UID:224601-20130116@calenda.revues.org
SUMMARY:Identity and Paradox
URL:https://calenda-formation.labocleo.org/224601
DESCRIPTION:On the one hand\, the concept of identity naturally enters the discussion concerning many types of paradox that are not\, primarily\, about identity itself. On the other hand\, there are a number of paradoxes considered as paradoxes of identity in which … Weitere Informationen https://calenda-formation.labocleo.org/224601
LOCATION:Lille
END:VEVENT
END:VCALENDAR
