BEGIN:VCALENDAR
VERSION:2.0
PRODID:-//https://calenda-formation.labocleo.org
X-WR-CALNAME:Calenda
X-WR-TIMEZONE:Europe/Paris
CALSCALE:GREGORIAN
X-WR-CALDESC:The calendar for arts, humanities and social sciences
METHOD:PUBLISH
BEGIN:VEVENT
DTSTART;VALUE=DATE:20121207
DTEND;VALUE=DATE:20121208
UID:225148-20121207@calenda.revues.org
SUMMARY:Thinking the present with Max Weber
URL:https://calenda-formation.labocleo.org/225148
DESCRIPTION:The recent publication in English of Weber’s complete writings (and speeches) on universities has thrown new light on his involvement in university politics and his concern with the "type of scholar" that universities were producing: Weber imagines a… @plus_info https://calenda-formation.labocleo.org/225148
LOCATION:Manchester\, Salford
END:VEVENT
BEGIN:VEVENT
DTSTART;VALUE=DATE:20130503
DTEND;VALUE=DATE:20130504
UID:225148-20130503@calenda.revues.org
SUMMARY:Thinking the present with Max Weber
URL:https://calenda-formation.labocleo.org/225148
DESCRIPTION:The recent publication in English of Weber’s complete writings (and speeches) on universities has thrown new light on his involvement in university politics and his concern with the "type of scholar" that universities were producing: Weber imagines a… @plus_info https://calenda-formation.labocleo.org/225148
LOCATION:Manchester\, Salford
END:VEVENT
END:VCALENDAR
