BEGIN:VCALENDAR
VERSION:2.0
PRODID:-//https://calenda-formation.labocleo.org
X-WR-CALNAME:Calenda
X-WR-TIMEZONE:Europe/Paris
CALSCALE:GREGORIAN
X-WR-CALDESC:Le calendrier des lettres et sciences humaines et sociales
METHOD:PUBLISH
BEGIN:VEVENT
DTSTART;VALUE=DATE:20121231
DTEND;VALUE=DATE:20130101
UID:225182-20121231@calenda.revues.org
SUMMARY:Économie culturelle et propriété intellectuelle
URL:https://calenda-formation.labocleo.org/225182
DESCRIPTION:La notion d'« économie culturelle » a été employée par des chercheurs intéressés par la dimension culturelle des activités financière et commerciale aussi bien que par ceux intéressés par les économies de la culture dans les sociétés passées et prése… @plus_info https://calenda-formation.labocleo.org/225182
LOCATION:
END:VEVENT
END:VCALENDAR
