BEGIN:VCALENDAR
VERSION:2.0
PRODID:-//https://calenda-formation.labocleo.org
X-WR-CALNAME:Calenda
X-WR-TIMEZONE:Europe/Paris
CALSCALE:GREGORIAN
X-WR-CALDESC:The calendar for arts, humanities and social sciences
METHOD:PUBLISH
BEGIN:VEVENT
DTSTART;VALUE=DATE:20121231
DTEND;VALUE=DATE:20130101
UID:225182-20121231@calenda.revues.org
SUMMARY:Cultural Economy and Intellectual Property
URL:https://calenda-formation.labocleo.org/225182
DESCRIPTION:The term “cultural economy” has been employed by scholars interested in the cultural dimensions of financial and commercial activities as well as by those interested in the economics of culture in societies past and present. In pairing this term with… @plus_info https://calenda-formation.labocleo.org/225182
LOCATION:
END:VEVENT
END:VCALENDAR
