BEGIN:VCALENDAR
VERSION:2.0
PRODID:-//https://calenda-formation.labocleo.org
X-WR-CALNAME:Calenda
X-WR-TIMEZONE:Europe/Paris
CALSCALE:GREGORIAN
X-WR-CALDESC:The calendar for arts, humanities and social sciences
METHOD:PUBLISH
BEGIN:VEVENT
DTSTART;VALUE=DATE:20121024
DTEND;VALUE=DATE:20121025
UID:225458-20121024@calenda.revues.org
SUMMARY:Victor L. Tapié\, Baroque and Classicism
URL:https://calenda-formation.labocleo.org/225458
DESCRIPTION:La journée d'étude autour de Baroque et classicisme réunira à Nantes plusieurs spécialistes autour de cette notion incontournable\, mais aussi contestable et contestée de « baroque ». … @plus_info https://calenda-formation.labocleo.org/225458
LOCATION:Nantes
END:VEVENT
END:VCALENDAR
