BEGIN:VCALENDAR
VERSION:2.0
PRODID:-//https://calenda-formation.labocleo.org
X-WR-CALNAME:Calenda
X-WR-TIMEZONE:Europe/Paris
CALSCALE:GREGORIAN
X-WR-CALDESC:Le calendrier des lettres et sciences humaines et sociales
METHOD:PUBLISH
BEGIN:VEVENT
DTSTART;VALUE=DATE:20130304
DTEND;VALUE=DATE:20130305
UID:226018-20130304@calenda.revues.org
SUMMARY:Repenser les dichotomies structurantes des sciences sociales au regard de l'objet tourisme 
URL:https://calenda-formation.labocleo.org/226018
DESCRIPTION:Cet appel à participation s’adresse à tous les doctorant(e)s et jeunes docteur(e)s qui interrogent\, directement ou indirectement\, les dynamiques\, les systèmes et les mobilités\, touristiques et de loisirs\, ainsi que les groupes sociaux et les territoi… Weitere Informationen https://calenda-formation.labocleo.org/226018
LOCATION:Paris
END:VEVENT
END:VCALENDAR
