BEGIN:VCALENDAR
VERSION:2.0
PRODID:-//https://calenda-formation.labocleo.org
X-WR-CALNAME:Calenda
X-WR-TIMEZONE:Europe/Paris
CALSCALE:GREGORIAN
X-WR-CALDESC:The calendar for arts, humanities and social sciences
METHOD:PUBLISH
BEGIN:VEVENT
DTSTART;VALUE=DATE:20121231
DTEND;VALUE=DATE:20130101
UID:226073-20121231@calenda.revues.org
SUMMARY:Political troubles and identity construction
URL:https://calenda-formation.labocleo.org/226073
DESCRIPTION:La journée d’étude organisée par le Groupe interdisciplinaire des doctorants de Bordeaux 3 se propose d’interroger le rapport entre troubles politiques et constructions identitaires. Dans les moments de crises – existentielles\, politiques\, économique… @plus_info https://calenda-formation.labocleo.org/226073
LOCATION:Pessac
END:VEVENT
END:VCALENDAR
