BEGIN:VCALENDAR
VERSION:2.0
PRODID:-//https://calenda-formation.labocleo.org
X-WR-CALNAME:Calenda
X-WR-TIMEZONE:Europe/Paris
CALSCALE:GREGORIAN
X-WR-CALDESC:Le calendrier des lettres et sciences humaines et sociales
METHOD:PUBLISH
BEGIN:VEVENT
DTSTART;VALUE=DATE:20121115
DTEND;VALUE=DATE:20121116
UID:226248-20121115@calenda.revues.org
SUMMARY:Crise\, sécurité\, politique
URL:https://calenda-formation.labocleo.org/226248
DESCRIPTION:Appel à contributions pour le numéro 23 de la revue Relaciones Internacionales\, consacré au thème « Crise\, sécurité\, politique». Date de publication : juin 2013.… @plus_info https://calenda-formation.labocleo.org/226248
LOCATION:
END:VEVENT
END:VCALENDAR
