BEGIN:VCALENDAR
VERSION:2.0
PRODID:-//https://calenda-formation.labocleo.org
X-WR-CALNAME:Calenda
X-WR-TIMEZONE:Europe/Paris
CALSCALE:GREGORIAN
X-WR-CALDESC:The calendar for arts, humanities and social sciences
METHOD:PUBLISH
BEGIN:VEVENT
DTSTART;VALUE=DATE:20121209
DTEND;VALUE=DATE:20121210
UID:226486-20121209@calenda.revues.org
SUMMARY:Protestos e movimentos sociais contemporâneos em Portugal
URL:https://calenda-formation.labocleo.org/226486
DESCRIPTION:O workshop “Protestos e Movimentos Sociais Contemporâneos em Portugal” terá lugar no CIES-IUL nos dias 20 e 21 de fevereiro de 2013. A finalidade do Workshop é a de discutir os textos elaborados pelos participantes. Para que se efetue uma leitura pré… @plus_info https://calenda-formation.labocleo.org/226486
LOCATION:Lisbon
END:VEVENT
END:VCALENDAR
