BEGIN:VCALENDAR
VERSION:2.0
PRODID:-//https://calenda-formation.labocleo.org
X-WR-CALNAME:Calenda
X-WR-TIMEZONE:Europe/Paris
CALSCALE:GREGORIAN
X-WR-CALDESC:Le calendrier des lettres et sciences humaines et sociales
METHOD:PUBLISH
BEGIN:VEVENT
DTSTART;VALUE=DATE:20121115
DTEND;VALUE=DATE:20121116
UID:226697-20121115@calenda.revues.org
SUMMARY:Funded doctoral positions in Non-Western Modern Art\, with a special focus on the Middle East 
URL:https://calenda-formation.labocleo.org/226697
DESCRIPTION:The project\, "Other Modernities: Patrimony and Practices of Visual Expression Outside the West\," is pleased to announce an open call for doctoral candidates interested in pursuing their work under the auspices of the Swiss National Fund Sinergia Prog… @plus_info https://calenda-formation.labocleo.org/226697
LOCATION:Genève
END:VEVENT
END:VCALENDAR
