BEGIN:VCALENDAR
VERSION:2.0
PRODID:-//https://calenda-formation.labocleo.org
X-WR-CALNAME:Calenda
X-WR-TIMEZONE:Europe/Paris
CALSCALE:GREGORIAN
X-WR-CALDESC:Le calendrier des lettres et sciences humaines et sociales
METHOD:PUBLISH
BEGIN:VEVENT
DTSTART;VALUE=DATE:20121231
DTEND;VALUE=DATE:20130101
UID:226742-20121231@calenda.revues.org
SUMMARY:The Seventh Century: Continuity or Discontinuity?
URL:https://calenda-formation.labocleo.org/226742
DESCRIPTION:We are pleased to announce a call for papers for the 2013 Edinburgh University Seventh Century Colloquium\, 28-29 May 2013. The colloquium is a two-day interdisciplinary conference for postgraduate students and early career researchers. The colloquium… Más informaciones https://calenda-formation.labocleo.org/226742
LOCATION:Edimburgo
END:VEVENT
END:VCALENDAR
