BEGIN:VCALENDAR
VERSION:2.0
PRODID:-//https://calenda-formation.labocleo.org
X-WR-CALNAME:Calenda
X-WR-TIMEZONE:Europe/Paris
CALSCALE:GREGORIAN
X-WR-CALDESC:Le calendrier des lettres et sciences humaines et sociales
METHOD:PUBLISH
BEGIN:VEVENT
DTSTART;VALUE=DATE:20121112
DTEND;VALUE=DATE:20121113
UID:226853-20121112@calenda.revues.org
SUMMARY:Une autre histoire de la danse : la danse italienne
URL:https://calenda-formation.labocleo.org/226853
DESCRIPTION:L’histoire de la danse théâtrale a été écrite en puisant le plus souvent sa source dans le centre de Paris et sa cour. Cependant\, du XVIe siècle à la fin du XIXe siècle\, l'importante production italienne a marqué et influencé l’Europe entière. Faute … Weitere Informationen https://calenda-formation.labocleo.org/226853
LOCATION:Pantin
END:VEVENT
END:VCALENDAR
