BEGIN:VCALENDAR
VERSION:2.0
PRODID:-//https://calenda-formation.labocleo.org
X-WR-CALNAME:Calenda
X-WR-TIMEZONE:Europe/Paris
CALSCALE:GREGORIAN
X-WR-CALDESC:Le calendrier des lettres et sciences humaines et sociales
METHOD:PUBLISH
BEGIN:VEVENT
DTSTART;VALUE=DATE:20130115
DTEND;VALUE=DATE:20130116
UID:226909-20130115@calenda.revues.org
SUMMARY:Quelles actions pour un autre travail ? 
URL:https://calenda-formation.labocleo.org/226909
DESCRIPTION:La question de la souffrance au travail tient aujourd’hui une grande place dans le débat public\, en France et dans de nombreux pays. Le vocabulaire\, les catégories\, les approches varient en fonction des milieux et des acteurs : souffrance\, stress\, ri… Weitere Informationen https://calenda-formation.labocleo.org/226909
LOCATION:Montrouge
END:VEVENT
END:VCALENDAR
