BEGIN:VCALENDAR
VERSION:2.0
PRODID:-//https://calenda-formation.labocleo.org
X-WR-CALNAME:Calenda
X-WR-TIMEZONE:Europe/Paris
CALSCALE:GREGORIAN
X-WR-CALDESC:Le calendrier des lettres et sciences humaines et sociales
METHOD:PUBLISH
BEGIN:VEVENT
DTSTART;VALUE=DATE:20121115
DTEND;VALUE=DATE:20121116
UID:226984-20121115@calenda.revues.org
SUMMARY:Rafles\, déportations\, résistance des juifs en France pendant la deuxième guerre mondiale : histoire et mémoire
URL:https://calenda-formation.labocleo.org/226984
DESCRIPTION:Ce colloque universitaire qui réunira des historiens reconnus et des jeunes chercheurs a pour ambition de faire une mise au point scientifique sur l’histoire et la mémoire de la Shoah en France. … Más informaciones https://calenda-formation.labocleo.org/226984
LOCATION:Montpellier
END:VEVENT
BEGIN:VEVENT
DTSTART;VALUE=DATE:20121116
DTEND;VALUE=DATE:20121117
UID:226984-20121116@calenda.revues.org
SUMMARY:Rafles\, déportations\, résistance des juifs en France pendant la deuxième guerre mondiale : histoire et mémoire
URL:https://calenda-formation.labocleo.org/226984
DESCRIPTION:Ce colloque universitaire qui réunira des historiens reconnus et des jeunes chercheurs a pour ambition de faire une mise au point scientifique sur l’histoire et la mémoire de la Shoah en France. … Más informaciones https://calenda-formation.labocleo.org/226984
LOCATION:Montpellier
END:VEVENT
END:VCALENDAR
