BEGIN:VCALENDAR
VERSION:2.0
PRODID:-//https://calenda-formation.labocleo.org
X-WR-CALNAME:Calenda
X-WR-TIMEZONE:Europe/Paris
CALSCALE:GREGORIAN
X-WR-CALDESC:Le calendrier des lettres et sciences humaines et sociales
METHOD:PUBLISH
BEGIN:VEVENT
DTSTART;VALUE=DATE:20121114
DTEND;VALUE=DATE:20121115
UID:227191-20121114@calenda.revues.org
SUMMARY:Financer le patrimoine religieux
URL:https://calenda-formation.labocleo.org/227191
DESCRIPTION:La préservation du patrimoine culturel apparaît comme une figure récurrente du cahier des charges des pouvoirs publics\, sans que la légitimité de cet engagement ne soit remise en question. Connaissant la part considérable qu’occupent les édifices du … Weitere Informationen https://calenda-formation.labocleo.org/227191
LOCATION:Straßburg
END:VEVENT
BEGIN:VEVENT
DTSTART;VALUE=DATE:20121115
DTEND;VALUE=DATE:20121116
UID:227191-20121115@calenda.revues.org
SUMMARY:Financer le patrimoine religieux
URL:https://calenda-formation.labocleo.org/227191
DESCRIPTION:La préservation du patrimoine culturel apparaît comme une figure récurrente du cahier des charges des pouvoirs publics\, sans que la légitimité de cet engagement ne soit remise en question. Connaissant la part considérable qu’occupent les édifices du … Weitere Informationen https://calenda-formation.labocleo.org/227191
LOCATION:Straßburg
END:VEVENT
END:VCALENDAR
