BEGIN:VCALENDAR
VERSION:2.0
PRODID:-//https://calenda-formation.labocleo.org
X-WR-CALNAME:Calenda
X-WR-TIMEZONE:Europe/Paris
CALSCALE:GREGORIAN
X-WR-CALDESC:The calendar for arts, humanities and social sciences
METHOD:PUBLISH
BEGIN:VEVENT
DTSTART;VALUE=DATE:20121115
DTEND;VALUE=DATE:20121116
UID:227301-20121115@calenda.revues.org
SUMMARY:Sociologia dos grupos profissionais: contexto presente e desenvolvimentos futuros
URL:https://calenda-formation.labocleo.org/227301
DESCRIPTION:Realiza-se no próximo dia 15 de novembro\, na Sala de Reuniões da Faculdade de Letras da Universidade do Porto\, o Seminário “Sociologia dos Grupos Profissionais: contexto presente e desenvolvimentos futuros”. Este evento conta com a participação dos i… @plus_info https://calenda-formation.labocleo.org/227301
LOCATION:Porto
END:VEVENT
END:VCALENDAR
