BEGIN:VCALENDAR
VERSION:2.0
PRODID:-//https://calenda-formation.labocleo.org
X-WR-CALNAME:Calenda
X-WR-TIMEZONE:Europe/Paris
CALSCALE:GREGORIAN
X-WR-CALDESC:Le calendrier des lettres et sciences humaines et sociales
METHOD:PUBLISH
BEGIN:VEVENT
DTSTART;VALUE=DATE:20121231
DTEND;VALUE=DATE:20130101
UID:227382-20121231@calenda.revues.org
SUMMARY:XIIIe congrès de l'Asociación de jóvenes investigadores en historiografía e historia de la lengua Española (AJIHLE)
URL:https://calenda-formation.labocleo.org/227382
DESCRIPTION:Le Comité d’organisation du XIIIe Congrès international de l’AJIHLE (Asociación de Jóvenes Investigadores de Historiografía e Historia de la Lengua Española) invitent les étudiants de master et les doctorants intéressés par un quelconque aspect de l’… @plus_info https://calenda-formation.labocleo.org/227382
LOCATION:Salamanque
END:VEVENT
END:VCALENDAR
