BEGIN:VCALENDAR
VERSION:2.0
PRODID:-//https://calenda-formation.labocleo.org
X-WR-CALNAME:Calenda
X-WR-TIMEZONE:Europe/Paris
CALSCALE:GREGORIAN
X-WR-CALDESC:Le calendrier des lettres et sciences humaines et sociales
METHOD:PUBLISH
BEGIN:VEVENT
DTSTART;VALUE=DATE:20121119
DTEND;VALUE=DATE:20121120
UID:227469-20121119@calenda.revues.org
SUMMARY:Le français et les langues partenaires : convivialité et compétitivité
URL:https://calenda-formation.labocleo.org/227469
DESCRIPTION:Comment faire pour sortir de la diglossie actuelle\, fondée sur la hiérarchie des langues\, et pour développer entre le français et les langues nationales des relations apaisées et conviviales ? Comment\, dans une perspective de développement\, organiser… Más informaciones https://calenda-formation.labocleo.org/227469
LOCATION:Pessac
END:VEVENT
BEGIN:VEVENT
DTSTART;VALUE=DATE:20121120
DTEND;VALUE=DATE:20121121
UID:227469-20121120@calenda.revues.org
SUMMARY:Le français et les langues partenaires : convivialité et compétitivité
URL:https://calenda-formation.labocleo.org/227469
DESCRIPTION:Comment faire pour sortir de la diglossie actuelle\, fondée sur la hiérarchie des langues\, et pour développer entre le français et les langues nationales des relations apaisées et conviviales ? Comment\, dans une perspective de développement\, organiser… Más informaciones https://calenda-formation.labocleo.org/227469
LOCATION:Pessac
END:VEVENT
END:VCALENDAR
