BEGIN:VCALENDAR
VERSION:2.0
PRODID:-//https://calenda-formation.labocleo.org
X-WR-CALNAME:Calenda
X-WR-TIMEZONE:Europe/Paris
CALSCALE:GREGORIAN
X-WR-CALDESC:The calendar for arts, humanities and social sciences
METHOD:PUBLISH
BEGIN:VEVENT
DTSTART;VALUE=DATE:20121201
DTEND;VALUE=DATE:20121202
UID:227484-20121201@calenda.revues.org
SUMMARY:Cultural heritage - what's the goal? 
URL:https://calenda-formation.labocleo.org/227484
DESCRIPTION:La culture et le patrimoine sont essentiels à la constitution des identités individuelles et collectives et à la construction du lien social. Consciente que la sauvegarde du patrimoine est une cause humanitaire\, l’association Patrimoine sans frontièr… @plus_info https://calenda-formation.labocleo.org/227484
LOCATION:Paris
END:VEVENT
END:VCALENDAR
