BEGIN:VCALENDAR
VERSION:2.0
PRODID:-//https://calenda-formation.labocleo.org
X-WR-CALNAME:Calenda
X-WR-TIMEZONE:Europe/Paris
CALSCALE:GREGORIAN
X-WR-CALDESC:The calendar for arts, humanities and social sciences
METHOD:PUBLISH
BEGIN:VEVENT
DTSTART;VALUE=DATE:20121109
DTEND;VALUE=DATE:20121110
UID:227489-20121109@calenda.revues.org
SUMMARY:Permanent research and study group days focussing on industry and wage-earners in the car industry (Gerpisa)
URL:https://calenda-formation.labocleo.org/227489
DESCRIPTION:Pour cette nouvelle année\, les journées du GERPISA reprendront la formule classique\, huit séances sur l’année le premier vendredi du mois de 14H00 à 17H00\, Salle Renaudeau\, Bâtiment Laplace\, 61\, avenue du Président Wilson\, 94235 Cachan. Parmi ces 8 s… @plus_info https://calenda-formation.labocleo.org/227489
LOCATION:Cachan\, Paris
END:VEVENT
BEGIN:VEVENT
DTSTART;VALUE=DATE:20121207
DTEND;VALUE=DATE:20121208
UID:227489-20121207@calenda.revues.org
SUMMARY:Permanent research and study group days focussing on industry and wage-earners in the car industry (Gerpisa)
URL:https://calenda-formation.labocleo.org/227489
DESCRIPTION:Pour cette nouvelle année\, les journées du GERPISA reprendront la formule classique\, huit séances sur l’année le premier vendredi du mois de 14H00 à 17H00\, Salle Renaudeau\, Bâtiment Laplace\, 61\, avenue du Président Wilson\, 94235 Cachan. Parmi ces 8 s… @plus_info https://calenda-formation.labocleo.org/227489
LOCATION:Cachan\, Paris
END:VEVENT
BEGIN:VEVENT
DTSTART;VALUE=DATE:20121005
DTEND;VALUE=DATE:20121006
UID:227489-20121005@calenda.revues.org
SUMMARY:Permanent research and study group days focussing on industry and wage-earners in the car industry (Gerpisa)
URL:https://calenda-formation.labocleo.org/227489
DESCRIPTION:Pour cette nouvelle année\, les journées du GERPISA reprendront la formule classique\, huit séances sur l’année le premier vendredi du mois de 14H00 à 17H00\, Salle Renaudeau\, Bâtiment Laplace\, 61\, avenue du Président Wilson\, 94235 Cachan. Parmi ces 8 s… @plus_info https://calenda-formation.labocleo.org/227489
LOCATION:Cachan\, Paris
END:VEVENT
END:VCALENDAR
