BEGIN:VCALENDAR
VERSION:2.0
PRODID:-//https://calenda-formation.labocleo.org
X-WR-CALNAME:Calenda
X-WR-TIMEZONE:Europe/Paris
CALSCALE:GREGORIAN
X-WR-CALDESC:The calendar for arts, humanities and social sciences
METHOD:PUBLISH
BEGIN:VEVENT
DTSTART;VALUE=DATE:20121116
DTEND;VALUE=DATE:20121117
UID:227584-20121116@calenda.revues.org
SUMMARY:Families and power(s)
URL:https://calenda-formation.labocleo.org/227584
DESCRIPTION:Les rapports entre famille(s) et pouvoir(s) sont un lieu commun de la pensée politique occidentale. Organisée sur le principe du dialogue entre romanistes et modernistes\, cette journée d’étude vise à restituer les constructions symboliques changeante… @plus_info https://calenda-formation.labocleo.org/227584
LOCATION:Villetaneuse
END:VEVENT
END:VCALENDAR
