BEGIN:VCALENDAR
VERSION:2.0
PRODID:-//https://calenda-formation.labocleo.org
X-WR-CALNAME:Calenda
X-WR-TIMEZONE:Europe/Paris
CALSCALE:GREGORIAN
X-WR-CALDESC:Le calendrier des lettres et sciences humaines et sociales
METHOD:PUBLISH
BEGIN:VEVENT
DTSTART;VALUE=DATE:20121231
DTEND;VALUE=DATE:20130101
UID:227639-20121231@calenda.revues.org
SUMMARY:Les enjeux du livre numérique : de l'Ipad à Jules Verne
URL:https://calenda-formation.labocleo.org/227639
DESCRIPTION:En réunissant des chercheurs\, des enseignants\, des doctorants confrontés à ces interrogations et à travers les approches offertes par les disciplines SHS\, notamment au regard des problématiques liées aux mutations des pratiques culturelles\, au poids … @plus_info https://calenda-formation.labocleo.org/227639
LOCATION:Québec
END:VEVENT
END:VCALENDAR
