BEGIN:VCALENDAR
VERSION:2.0
PRODID:-//https://calenda-formation.labocleo.org
X-WR-CALNAME:Calenda
X-WR-TIMEZONE:Europe/Paris
CALSCALE:GREGORIAN
X-WR-CALDESC:Le calendrier des lettres et sciences humaines et sociales
METHOD:PUBLISH
BEGIN:VEVENT
DTSTART;VALUE=DATE:20121221
DTEND;VALUE=DATE:20121222
UID:227850-20121221@calenda.revues.org
SUMMARY:Les meetings électoraux
URL:https://calenda-formation.labocleo.org/227850
DESCRIPTION:En dépit de la multiplication des études récentes concernant les campagnes électorales\, le meeting reste un objet relativement peu investi. Outil de mobilisation électorale et de communication censé illustrer par son organisation ritualisée la force … Más informaciones https://calenda-formation.labocleo.org/227850
LOCATION:Tolosa
END:VEVENT
END:VCALENDAR
