BEGIN:VCALENDAR
VERSION:2.0
PRODID:-//https://calenda-formation.labocleo.org
X-WR-CALNAME:Calenda
X-WR-TIMEZONE:Europe/Paris
CALSCALE:GREGORIAN
X-WR-CALDESC:The calendar for arts, humanities and social sciences
METHOD:PUBLISH
BEGIN:VEVENT
DTSTART;VALUE=DATE:20121116
DTEND;VALUE=DATE:20121117
UID:227873-20121116@calenda.revues.org
SUMMARY:Religion and Naval Command\, from Ancient history to the 20th century
URL:https://calenda-formation.labocleo.org/227873
DESCRIPTION:Le deuxième volet du « Gouvernement des hommes en mer »\, programme de recherche en histoire maritime unissant les institutions culturelles de la Ville de Rochefort et l’Université de La Rochelle (Laboratoires LIENSs - UMR 7266 et CRHIA - EA 1163)\, in… @plus_info https://calenda-formation.labocleo.org/227873
LOCATION:Rochefort
END:VEVENT
END:VCALENDAR
