BEGIN:VCALENDAR
VERSION:2.0
PRODID:-//https://calenda-formation.labocleo.org
X-WR-CALNAME:Calenda
X-WR-TIMEZONE:Europe/Paris
CALSCALE:GREGORIAN
X-WR-CALDESC:Le calendrier des lettres et sciences humaines et sociales
METHOD:PUBLISH
BEGIN:VEVENT
DTSTART;VALUE=DATE:20121122
DTEND;VALUE=DATE:20121123
UID:227881-20121122@calenda.revues.org
SUMMARY:Le Muséum national d’histoire naturelle\, objet d’histoire
URL:https://calenda-formation.labocleo.org/227881
DESCRIPTION:Le séminaire « Le Muséum national d’histoire naturelle\, objet d’histoire. Recherches\, hommes\, institutions\, patrimoine\, enseignement » entend contribuer au partage de la vitalité des travaux autour d’un établissement\, de ses métiers\, de ses réseaux e… Más informaciones https://calenda-formation.labocleo.org/227881
LOCATION:París
END:VEVENT
BEGIN:VEVENT
DTSTART;VALUE=DATE:20121213
DTEND;VALUE=DATE:20121214
UID:227881-20121213@calenda.revues.org
SUMMARY:Le Muséum national d’histoire naturelle\, objet d’histoire
URL:https://calenda-formation.labocleo.org/227881
DESCRIPTION:Le séminaire « Le Muséum national d’histoire naturelle\, objet d’histoire. Recherches\, hommes\, institutions\, patrimoine\, enseignement » entend contribuer au partage de la vitalité des travaux autour d’un établissement\, de ses métiers\, de ses réseaux e… Más informaciones https://calenda-formation.labocleo.org/227881
LOCATION:París
END:VEVENT
BEGIN:VEVENT
DTSTART;VALUE=DATE:20130117
DTEND;VALUE=DATE:20130118
UID:227881-20130117@calenda.revues.org
SUMMARY:Le Muséum national d’histoire naturelle\, objet d’histoire
URL:https://calenda-formation.labocleo.org/227881
DESCRIPTION:Le séminaire « Le Muséum national d’histoire naturelle\, objet d’histoire. Recherches\, hommes\, institutions\, patrimoine\, enseignement » entend contribuer au partage de la vitalité des travaux autour d’un établissement\, de ses métiers\, de ses réseaux e… Más informaciones https://calenda-formation.labocleo.org/227881
LOCATION:París
END:VEVENT
BEGIN:VEVENT
DTSTART;VALUE=DATE:20130214
DTEND;VALUE=DATE:20130215
UID:227881-20130214@calenda.revues.org
SUMMARY:Le Muséum national d’histoire naturelle\, objet d’histoire
URL:https://calenda-formation.labocleo.org/227881
DESCRIPTION:Le séminaire « Le Muséum national d’histoire naturelle\, objet d’histoire. Recherches\, hommes\, institutions\, patrimoine\, enseignement » entend contribuer au partage de la vitalité des travaux autour d’un établissement\, de ses métiers\, de ses réseaux e… Más informaciones https://calenda-formation.labocleo.org/227881
LOCATION:París
END:VEVENT
BEGIN:VEVENT
DTSTART;VALUE=DATE:20130321
DTEND;VALUE=DATE:20130322
UID:227881-20130321@calenda.revues.org
SUMMARY:Le Muséum national d’histoire naturelle\, objet d’histoire
URL:https://calenda-formation.labocleo.org/227881
DESCRIPTION:Le séminaire « Le Muséum national d’histoire naturelle\, objet d’histoire. Recherches\, hommes\, institutions\, patrimoine\, enseignement » entend contribuer au partage de la vitalité des travaux autour d’un établissement\, de ses métiers\, de ses réseaux e… Más informaciones https://calenda-formation.labocleo.org/227881
LOCATION:París
END:VEVENT
BEGIN:VEVENT
DTSTART;VALUE=DATE:20130418
DTEND;VALUE=DATE:20130419
UID:227881-20130418@calenda.revues.org
SUMMARY:Le Muséum national d’histoire naturelle\, objet d’histoire
URL:https://calenda-formation.labocleo.org/227881
DESCRIPTION:Le séminaire « Le Muséum national d’histoire naturelle\, objet d’histoire. Recherches\, hommes\, institutions\, patrimoine\, enseignement » entend contribuer au partage de la vitalité des travaux autour d’un établissement\, de ses métiers\, de ses réseaux e… Más informaciones https://calenda-formation.labocleo.org/227881
LOCATION:París
END:VEVENT
BEGIN:VEVENT
DTSTART;VALUE=DATE:20130516
DTEND;VALUE=DATE:20130517
UID:227881-20130516@calenda.revues.org
SUMMARY:Le Muséum national d’histoire naturelle\, objet d’histoire
URL:https://calenda-formation.labocleo.org/227881
DESCRIPTION:Le séminaire « Le Muséum national d’histoire naturelle\, objet d’histoire. Recherches\, hommes\, institutions\, patrimoine\, enseignement » entend contribuer au partage de la vitalité des travaux autour d’un établissement\, de ses métiers\, de ses réseaux e… Más informaciones https://calenda-formation.labocleo.org/227881
LOCATION:París
END:VEVENT
END:VCALENDAR
