BEGIN:VCALENDAR
VERSION:2.0
PRODID:-//https://calenda-formation.labocleo.org
X-WR-CALNAME:Calenda
X-WR-TIMEZONE:Europe/Paris
CALSCALE:GREGORIAN
X-WR-CALDESC:The calendar for arts, humanities and social sciences
METHOD:PUBLISH
BEGIN:VEVENT
DTSTART;VALUE=DATE:20121108
DTEND;VALUE=DATE:20121109
UID:227895-20121108@calenda.revues.org
SUMMARY:Communication of symbolism and symbolism of communication in modern and postmodern societies
URL:https://calenda-formation.labocleo.org/227895
DESCRIPTION:Colloque international « Communication du symbolique et symbolique de la communication dans les sociétés modernes et postmodernes » organisé par ESSACHESS et l’Open Research Center for International Applied Research Studies of Innovations in Communic… @plus_info https://calenda-formation.labocleo.org/227895
LOCATION:Béziers
END:VEVENT
BEGIN:VEVENT
DTSTART;VALUE=DATE:20121109
DTEND;VALUE=DATE:20121110
UID:227895-20121109@calenda.revues.org
SUMMARY:Communication of symbolism and symbolism of communication in modern and postmodern societies
URL:https://calenda-formation.labocleo.org/227895
DESCRIPTION:Colloque international « Communication du symbolique et symbolique de la communication dans les sociétés modernes et postmodernes » organisé par ESSACHESS et l’Open Research Center for International Applied Research Studies of Innovations in Communic… @plus_info https://calenda-formation.labocleo.org/227895
LOCATION:Béziers
END:VEVENT
END:VCALENDAR
