BEGIN:VCALENDAR
VERSION:2.0
PRODID:-//https://calenda-formation.labocleo.org
X-WR-CALNAME:Calenda
X-WR-TIMEZONE:Europe/Paris
CALSCALE:GREGORIAN
X-WR-CALDESC:Le calendrier des lettres et sciences humaines et sociales
METHOD:PUBLISH
BEGIN:VEVENT
DTSTART;VALUE=DATE:20121204
DTEND;VALUE=DATE:20121205
UID:228179-20121204@calenda.revues.org
SUMMARY:La biologie de synthèse entre sciences et société
URL:https://calenda-formation.labocleo.org/228179
DESCRIPTION:L’objectif de ce colloque pluridisciplinaire est de réunir des chercheurs en sciences humaines et sociales et en sciences de la vie autour de la biologie de synthèse. La rencontre permettra de discuter du phénomène d’émergence\, d’identifier les grand… Más informaciones https://calenda-formation.labocleo.org/228179
LOCATION:París
END:VEVENT
END:VCALENDAR
