BEGIN:VCALENDAR
VERSION:2.0
PRODID:-//https://calenda-formation.labocleo.org
X-WR-CALNAME:Calenda
X-WR-TIMEZONE:Europe/Paris
CALSCALE:GREGORIAN
X-WR-CALDESC:Le calendrier des lettres et sciences humaines et sociales
METHOD:PUBLISH
BEGIN:VEVENT
DTSTART;VALUE=DATE:20121210
DTEND;VALUE=DATE:20121211
UID:228232-20121210@calenda.revues.org
SUMMARY:Epistemology and Sociology of Management Science
URL:https://calenda-formation.labocleo.org/228232
DESCRIPTION:Nos dias 20 a 23 de março de 2013\, o Núcleo de Pesquisa em Organizações\, Racionalidade e Desenvolvimento – ORD realizará em Florianópolis o III Colóquio Internacional de Epistemologia e Sociologia da Ciência da Administração\, oportunidade em que os p… Más informaciones https://calenda-formation.labocleo.org/228232
LOCATION:Florianópolis
END:VEVENT
END:VCALENDAR
