BEGIN:VCALENDAR
VERSION:2.0
PRODID:-//https://calenda-formation.labocleo.org
X-WR-CALNAME:Calenda
X-WR-TIMEZONE:Europe/Paris
CALSCALE:GREGORIAN
X-WR-CALDESC:The calendar for arts, humanities and social sciences
METHOD:PUBLISH
BEGIN:VEVENT
DTSTART;VALUE=DATE:20121215
DTEND;VALUE=DATE:20121216
UID:228259-20121215@calenda.revues.org
SUMMARY:Naturality in movement: environment and recreational uses in nature
URL:https://calenda-formation.labocleo.org/228259
DESCRIPTION:Les pratiques récréatives de nature ont toujours été l’expression d’un rapport historique à soi\, aux autres\, à la société et aux environnements de pratique. Derrière cet appel à la grande aventure et cette demande de contact avec les éléments se cons… @plus_info https://calenda-formation.labocleo.org/228259
LOCATION:Mirabel
END:VEVENT
END:VCALENDAR
