BEGIN:VCALENDAR
VERSION:2.0
PRODID:-//https://calenda-formation.labocleo.org
X-WR-CALNAME:Calenda
X-WR-TIMEZONE:Europe/Paris
CALSCALE:GREGORIAN
X-WR-CALDESC:The calendar for arts, humanities and social sciences
METHOD:PUBLISH
BEGIN:VEVENT
DTSTART;VALUE=DATE:20121206
DTEND;VALUE=DATE:20121207
UID:228428-20121206@calenda.revues.org
SUMMARY:The Algerian War. A war like any other? 
URL:https://calenda-formation.labocleo.org/228428
DESCRIPTION:Parce que la guerre d’Algérie n’a été officiellement reconnue telle que tardivement\, en 1999\, elle est souvent appelée\, encore aujourd’hui\, la « guerre sans nom ». En France\, on en fait l’emblème d’un consensus du silence\, des tabous de l’histoire\, d… @plus_info https://calenda-formation.labocleo.org/228428
LOCATION:Paris
END:VEVENT
BEGIN:VEVENT
DTSTART;VALUE=DATE:20121207
DTEND;VALUE=DATE:20121208
UID:228428-20121207@calenda.revues.org
SUMMARY:The Algerian War. A war like any other? 
URL:https://calenda-formation.labocleo.org/228428
DESCRIPTION:Parce que la guerre d’Algérie n’a été officiellement reconnue telle que tardivement\, en 1999\, elle est souvent appelée\, encore aujourd’hui\, la « guerre sans nom ». En France\, on en fait l’emblème d’un consensus du silence\, des tabous de l’histoire\, d… @plus_info https://calenda-formation.labocleo.org/228428
LOCATION:Paris
END:VEVENT
END:VCALENDAR
