BEGIN:VCALENDAR
VERSION:2.0
PRODID:-//https://calenda-formation.labocleo.org
X-WR-CALNAME:Calenda
X-WR-TIMEZONE:Europe/Paris
CALSCALE:GREGORIAN
X-WR-CALDESC:The calendar for arts, humanities and social sciences
METHOD:PUBLISH
BEGIN:VEVENT
DTSTART;VALUE=DATE:20121210
DTEND;VALUE=DATE:20121211
UID:229001-20121210@calenda.revues.org
SUMMARY:Short stories of last century: crisis or revival of narrative? 
URL:https://calenda-formation.labocleo.org/229001
DESCRIPTION:Si la nouvelle de langue française présente une extrême diversité\, dans ses thèmes\, ses sous-genres et ses techniques narratives\, plusieurs questions majeures se posent : le récit bref suit-il les tendances minimalistes du récit plus long ? La nouvel… @plus_info https://calenda-formation.labocleo.org/229001
LOCATION:Fribourg
END:VEVENT
BEGIN:VEVENT
DTSTART;VALUE=DATE:20121211
DTEND;VALUE=DATE:20121212
UID:229001-20121211@calenda.revues.org
SUMMARY:Short stories of last century: crisis or revival of narrative? 
URL:https://calenda-formation.labocleo.org/229001
DESCRIPTION:Si la nouvelle de langue française présente une extrême diversité\, dans ses thèmes\, ses sous-genres et ses techniques narratives\, plusieurs questions majeures se posent : le récit bref suit-il les tendances minimalistes du récit plus long ? La nouvel… @plus_info https://calenda-formation.labocleo.org/229001
LOCATION:Fribourg
END:VEVENT
END:VCALENDAR
