BEGIN:VCALENDAR
VERSION:2.0
PRODID:-//https://calenda-formation.labocleo.org
X-WR-CALNAME:Calenda
X-WR-TIMEZONE:Europe/Paris
CALSCALE:GREGORIAN
X-WR-CALDESC:The calendar for arts, humanities and social sciences
METHOD:PUBLISH
BEGIN:VEVENT
DTSTART;VALUE=DATE:20130131
DTEND;VALUE=DATE:20130201
UID:229239-20130131@calenda.revues.org
SUMMARY:Aid for international mobility in Sudan (CEDEJ)
URL:https://calenda-formation.labocleo.org/229239
DESCRIPTION:L’antenne du CEDEJ à Khartoum propose une Aide à la mobilité internationale (AMI) destinée aux étudiants doctorants inscrits en thèse dans une université française\, menant des recherches en sciences humaines et sociales sur le Soudan contemporain. Do… @plus_info https://calenda-formation.labocleo.org/229239
LOCATION:Khartoum
END:VEVENT
END:VCALENDAR
