BEGIN:VCALENDAR
VERSION:2.0
PRODID:-//https://calenda-formation.labocleo.org
X-WR-CALNAME:Calenda
X-WR-TIMEZONE:Europe/Paris
CALSCALE:GREGORIAN
X-WR-CALDESC:Le calendrier des lettres et sciences humaines et sociales
METHOD:PUBLISH
BEGIN:VEVENT
DTSTART;VALUE=DATE:20130124
DTEND;VALUE=DATE:20130125
UID:229868-20130124@calenda.revues.org
SUMMARY:Archives des dictatures
URL:https://calenda-formation.labocleo.org/229868
DESCRIPTION:Ce colloque international dédié au traitement des archives des dictatures\, s’inscrit dans une réflexion plus large engagée sous une perspective croisée associant historiens\, archivistes\, juristes\, sur un matériau d’archives sensibles en ce qu’elles s… Más informaciones https://calenda-formation.labocleo.org/229868
LOCATION:Pierrefitte-sur-Seine
END:VEVENT
BEGIN:VEVENT
DTSTART;VALUE=DATE:20130125
DTEND;VALUE=DATE:20130126
UID:229868-20130125@calenda.revues.org
SUMMARY:Archives des dictatures
URL:https://calenda-formation.labocleo.org/229868
DESCRIPTION:Ce colloque international dédié au traitement des archives des dictatures\, s’inscrit dans une réflexion plus large engagée sous une perspective croisée associant historiens\, archivistes\, juristes\, sur un matériau d’archives sensibles en ce qu’elles s… Más informaciones https://calenda-formation.labocleo.org/229868
LOCATION:Pierrefitte-sur-Seine
END:VEVENT
END:VCALENDAR
