BEGIN:VCALENDAR
VERSION:2.0
PRODID:-//https://calenda-formation.labocleo.org
X-WR-CALNAME:Calenda
X-WR-TIMEZONE:Europe/Paris
CALSCALE:GREGORIAN
X-WR-CALDESC:O calendário de letras e de ciências sociais e humanas
METHOD:PUBLISH
BEGIN:VEVENT
DTSTART;VALUE=DATE:20130115
DTEND;VALUE=DATE:20130116
UID:230109-20130115@calenda.revues.org
SUMMARY:Missions de terrains et bourses d’écriture du Centre français des études éthiopiennes
URL:https://calenda-formation.labocleo.org/230109
DESCRIPTION:Le Centre Français des études éthiopiennes (CFEE) d'Addis Abeba (Éthiopie)\, centre de recherche du Ministère des Affaires étrangères et du Centre national de la Recherche scientifique (UMIFRE 23) propose aux chercheurs et étudiants en sciences humain… @plus_info https://calenda-formation.labocleo.org/230109
LOCATION:Adis Abeba
END:VEVENT
END:VCALENDAR
