BEGIN:VCALENDAR
VERSION:2.0
PRODID:-//https://calenda-formation.labocleo.org
X-WR-CALNAME:Calenda
X-WR-TIMEZONE:Europe/Paris
CALSCALE:GREGORIAN
X-WR-CALDESC:Le calendrier des lettres et sciences humaines et sociales
METHOD:PUBLISH
BEGIN:VEVENT
DTSTART;VALUE=DATE:20130115
DTEND;VALUE=DATE:20130116
UID:230359-20130115@calenda.revues.org
SUMMARY:Révolutions\, contestations\, indignations
URL:https://calenda-formation.labocleo.org/230359
DESCRIPTION:Révolutions de couleur dans l’espace postsoviétique\, révolutions de fleurs dans le monde arabe\, mouvements des indignés en Europe\, plusieurs ordres politiques ont été bouleversés par des mobilisations collectives aux modes d’organisations inédits. Au… @plus_info https://calenda-formation.labocleo.org/230359
LOCATION:Paris
END:VEVENT
END:VCALENDAR
