BEGIN:VCALENDAR
VERSION:2.0
PRODID:-//https://calenda-formation.labocleo.org
X-WR-CALNAME:Calenda
X-WR-TIMEZONE:Europe/Paris
CALSCALE:GREGORIAN
X-WR-CALDESC:Le calendrier des lettres et sciences humaines et sociales
METHOD:PUBLISH
BEGIN:VEVENT
DTSTART;VALUE=DATE:20130201
DTEND;VALUE=DATE:20130202
UID:230627-20130201@calenda.revues.org
SUMMARY:Modèles et modélisation dans les sciences du langage
URL:https://calenda-formation.labocleo.org/230627
DESCRIPTION:Les Rencontres jeunes chercheurs de l'École doctorale « Langage et langues» (ED 268\, université Sorbonne nouvelle) offrent la possibilité aux jeunes chercheurs inscrits en doctorat ou en Master recherche de présenter leurs travaux sous forme de commu… Weitere Informationen https://calenda-formation.labocleo.org/230627
LOCATION:Paris
END:VEVENT
END:VCALENDAR
