BEGIN:VCALENDAR
VERSION:2.0
PRODID:-//https://calenda-formation.labocleo.org
X-WR-CALNAME:Calenda
X-WR-TIMEZONE:Europe/Paris
CALSCALE:GREGORIAN
X-WR-CALDESC:Le calendrier des lettres et sciences humaines et sociales
METHOD:PUBLISH
BEGIN:VEVENT
DTSTART;VALUE=DATE:20121215
DTEND;VALUE=DATE:20121216
UID:230707-20121215@calenda.revues.org
SUMMARY:Aides à la mobilité internationale 2013 (Ifpo)
URL:https://calenda-formation.labocleo.org/230707
DESCRIPTION:L'Ifpo propose\, au sein de ses trois départements des aides à la mobilité internationale (AMI)\, attribuées par le ministère des Affaires étrangères\, à des étudiants doctorants inscrits en thèse dans une université française et effectuant leur recherc… Más informaciones https://calenda-formation.labocleo.org/230707
LOCATION:Beirut\, Ammán
END:VEVENT
END:VCALENDAR
